BEGIN:VCALENDAR
VERSION:2.0
PRODID:-//Big Data Elite Asia Limited
CALSCALE:GREGORIAN
METHOD:PUBLISH
X-WR-CALNAME:Big Data Elite Asia Limited
X-ORIGINAL-URL:http://bigdata-elite.com/events/bj-dr-lawrence-wong-was-invited-to-speak-about-big-data-strategies-at-hku-icb/
X-WR-CALDESC:(BJ) Dr. Lawrence Wong talked about &#8220;Business Models and Strategies in Big Data Era&#8221;at HKU ICB Seminar
BEGIN:VEVENT
DTSTART:20161215T133000
DTEND:20161215T160000
SUMMARY:(BJ) Dr. Lawrence Wong talked about &#8220;Business Models and Strategies in Big Data Era&#8221;at HKU ICB Seminar
DESCRIPTION:Dr. Lawrence Wong conducted a lecture on big data at  HKU ICB seminar on 15th December 2016.
LOCATION:Fortune Financial Center, Beijing
END:VEVENT
END:VCALENDAR
